BEGIN:VCALENDAR
VERSION:2.0
PRODID:-//Weltoffenes Nordsachsen - ECPv6.2.9//NONSGML v1.0//EN
CALSCALE:GREGORIAN
METHOD:PUBLISH
X-WR-CALNAME:Weltoffenes Nordsachsen
X-ORIGINAL-URL:https://weltoffenes-nordsachsen.de
X-WR-CALDESC:Veranstaltungen für Weltoffenes Nordsachsen
REFRESH-INTERVAL;VALUE=DURATION:PT1H
X-Robots-Tag:noindex
X-PUBLISHED-TTL:PT1H
BEGIN:VTIMEZONE
TZID:Europe/Berlin
BEGIN:DAYLIGHT
TZOFFSETFROM:+0100
TZOFFSETTO:+0200
TZNAME:CEST
DTSTART:20260329T010000
END:DAYLIGHT
BEGIN:STANDARD
TZOFFSETFROM:+0200
TZOFFSETTO:+0100
TZNAME:CET
DTSTART:20261025T010000
END:STANDARD
END:VTIMEZONE
BEGIN:VEVENT
DTSTART;TZID=Europe/Berlin:20260415T190000
DTEND;TZID=Europe/Berlin:20260415T203000
DTSTAMP:20260420T112854
CREATED:20260211T114821Z
LAST-MODIFIED:20260211T115335Z
UID:43261-1776279600-1776285000@weltoffenes-nordsachsen.de
SUMMARY:Die demokratische (R)Evolution des Geldes - Wie unser Geldsystem der Demokratie schadet – und wie wir es digital erneuern können. (Torgau)
DESCRIPTION:Demokratien stehen weltweit unter Druck: Autoritäre Kräfte gewinnen an Einfluss\, Freiheitsrechte werden abgebaut und Institutionen geschwächt. Warum verlieren so viele Menschen das Vertrauen in die Demokratie und die Idee der offenen und freien Gesellschaft?\nIn der öffentlichen Debatte darüber bleibt ein zentraler Faktor oft unbeachtet: die Rolle des Geldes. Wissenschaftliche Erkenntnisse und historische Erfahrungen zeigen\, dass die traditionelle Geldorganisation die Stabilität von Demokratien negativ beeinflusst. Finanzkrisen kehren wieder und erzeugen Unsicherheit\, verschärfen Ungleichheit und stärken langfristig antidemokratische Kräfte.\nAktuell erlebt unser Geldsystem durch die Digitale Revolution einen tiefgreifenden Umbruch. Dieser bietet der Zivilgesellschaft erstmals Möglichkeiten\, die Organisation des Finanzsystems mitzugestalten. Bietet sich so eine Chance\, rechtzeitig unser Geldsystem und die Demokratie zu stabilisieren? Und welche Rolle können dabei digitale Kryptowährungen\, wie Bitcoin spielen?\nDer Abend wird Optionen und Beteiligungsmöglichkeiten aufzeigen\, wie Bürgerinnen und Bürger die Zukunft des Geldsystems demokratisch mitgestalten können. Denn ob Bitcoin\, Digitaler Euro\, PayPal oder Wero – wer sich nicht informiert und einbringt\, überlässt die Entscheidungen anderen. In Zeiten wirtschaftlichen Drucks ist diese Auseinandersetzung wichtiger denn je.\nFriedemann Brenneis beschäftigt sich als freier Journalist seit mehr als zehn Jahren mit der Digitalisierung des Geldes und den damit verbundenen gesellschaftlichen Reibungspunkten. Über seine Recherchen berichtet er u.a. im Deutschlandradio\, bei Spiegel und Zeit\, in Wirtschafts- und Tech-Magazinen sowie in Workshops und Vorträgen. \nDie Veranstaltungen aus der Reihe „Kontrovers vor Ort“ werden in Kooperation mit der Sächsischen Landeszentrale für politische Bildung angeboten und sind für Sie kostenfrei.
URL:https://weltoffenes-nordsachsen.de/termin/die-demokratische-revolution-des-geldes-wie-unser-geldsystem-der-demokratie-schadet-und-wie-wir-es-digital-erneuern-koennen/
ATTACH;FMTTYPE=image/jpeg:https://weltoffenes-nordsachsen.de/wp-content/uploads/2025/04/kontrovers-vor-Ort-vhs.jpg
END:VEVENT
END:VCALENDAR